
BEGIN:VCALENDAR
VERSION:2.0
PRODID:-//wp-events-plugin.com//7.2.3.1//EN
TZID:Europe/Vienna
X-WR-TIMEZONE:Europe/Vienna
BEGIN:VEVENT
UID:0-198@ateliervogelfrei.com
DTSTART;TZID=Europe/Vienna:20260424T150000
DTEND;TZID=Europe/Vienna:20260424T180000
DTSTAMP:20260305T104815Z
URL:https://www.ateliervogelfrei.com/events/workshop-kraeuterauszuege/
SUMMARY:Workshop "KRÄUTERAUSZÜGE"
DESCRIPTION:Gemeinsam entdecken wir die Kraft der Pflanzen und erfahren\, w
 ie Kräuterauszüge seit Jahrhunderten genutzt werden\, um ihre wertvollen
  Inhaltsstoffe zu bewahren. Du erhältst fundiertes Kräuterwissen im Jahr
 eskreis\, lernst klassische Auszugsmethoden wie Sole\, Essig und Oxymel ke
 nnen und stellst zwei Naturmittel für Deinen Alltag selbst her - inklusiv
 e Skript und zum Mitnehmen.\n\nEin Workshop der Kräuterwerkstatt Kärnten
  - Kräuterwissen | Soleauszug | Oxymel
ATTACH;FMTTYPE=image/jpeg:https://www.ateliervogelfrei.com/wp-content/uplo
 ads/krtr-post-workshop-kraeuterauszuege-2026-04-24.avif
CATEGORIES:Workshop
LOCATION:atelier vogelfrei\, Badgasse 8\, Klagenfurt am Wörthersee\, Kärn
 ten\, 9020\, Klagenfurt Stadt\, Österreich
X-APPLE-STRUCTURED-LOCATION;VALUE=URI;X-ADDRESS=Badgasse 8\, Klagenfurt am 
 Wörthersee\, Kärnten\, 9020\, Klagenfurt Stadt\, Österreich;X-APPLE-RAD
 IUS=100;X-TITLE=atelier vogelfrei:geo:0,0
END:VEVENT
BEGIN:VTIMEZONE
TZID:Europe/Vienna
X-LIC-LOCATION:Europe/Vienna
BEGIN:DAYLIGHT
DTSTART:20260329T030000
TZOFFSETFROM:+0100
TZOFFSETTO:+0200
TZNAME:CEST
END:DAYLIGHT
END:VTIMEZONE
END:VCALENDAR