
BEGIN:VCALENDAR
VERSION:2.0
PRODID:-//wp-events-plugin.com//7.2.3.1//EN
TZID:Europe/Vienna
X-WR-TIMEZONE:Europe/Vienna
BEGIN:VEVENT
UID:0-208@ateliervogelfrei.com
DTSTART;TZID=Europe/Vienna:20260220T090000
DTEND;TZID=Europe/Vienna:20260220T130000
DTSTAMP:20260209T141829Z
URL:https://www.ateliervogelfrei.com/events/offenes-atelier-9/
SUMMARY:Offenes Atelier
DESCRIPTION:
CATEGORIES:Offenes Atelier
LOCATION:atelier vogelfrei\, Badgasse 8\, Klagenfurt am Wörthersee\, Kärn
 ten\, 9020\, Klagenfurt Stadt\, Österreich
X-APPLE-STRUCTURED-LOCATION;VALUE=URI;X-ADDRESS=Badgasse 8\, Klagenfurt am 
 Wörthersee\, Kärnten\, 9020\, Klagenfurt Stadt\, Österreich;X-APPLE-RAD
 IUS=100;X-TITLE=atelier vogelfrei:geo:0,0
END:VEVENT
BEGIN:VTIMEZONE
TZID:Europe/Vienna
X-LIC-LOCATION:Europe/Vienna
BEGIN:STANDARD
DTSTART:20251026T020000
TZOFFSETFROM:+0200
TZOFFSETTO:+0100
TZNAME:CET
END:STANDARD
END:VTIMEZONE
END:VCALENDAR